BEGIN:VCALENDAR
VERSION:2.0
PRODID:-//Squarespace Inc/Squarespace 6//v6//EN
BEGIN:VEVENT
UID:57f8d12c725e25a7b5d841b2@squarespace.com
DTSTAMP:20161008T110339Z
DTSTART:20161027T210000Z
DTEND:20161027T230000Z
SUMMARY:Everyday Living with Arthritis
END:VEVENT
END:VCALENDAR
