BEGIN:VCALENDAR
VERSION:2.0
PRODID:-//Squarespace Inc/Squarespace 6//v6//EN
BEGIN:VEVENT
UID:5806d8ca893fc0d6248112b8@squarespace.com
DTSTAMP:20161019T025351Z
DTSTART:20161028T210000Z
DTEND:20161028T230000Z
SUMMARY:Alzheimers Canterbury - Living Well with Dementia
GEO:-42.457605;171.206228
LOCATION:Greymouth Uniting Church\, 203 Tainui Street\, Greymouth\, West Co
 ast\, 7805\, New Zealand
END:VEVENT
END:VCALENDAR
