BEGIN:VCALENDAR
VERSION:2.0
PRODID:-//Squarespace Inc/Squarespace 6//v6//EN
BEGIN:VEVENT
UID:580729272994cac220a3d3a1@squarespace.com
DTSTAMP:20161019T082210Z
DTSTART:20161115T220000Z
DTEND:20161115T230000Z
SUMMARY:West Coast Stroke Support Group - Greymouth
GEO:-42.508475;171.229853
LOCATION:West Coast Stroke Foundation\, Westland Recreation Centre\, 7805\, 
 new zealand
END:VEVENT
END:VCALENDAR
