BEGIN:VCALENDAR
VERSION:2.0
PRODID:-//Squarespace Inc/Squarespace 6//v6//EN
BEGIN:VEVENT
UID:582d5cd9725e256210e29599@squarespace.com
DTSTAMP:20161117T075010Z
DTSTART:20161206T213000Z
DTEND:20161206T223000Z
SUMMARY:Morning Tea for MS West Coast - Westport
END:VEVENT
END:VCALENDAR
