BEGIN:VCALENDAR
VERSION:2.0
PRODID:-//Squarespace Inc/Squarespace 6//v6//EN
BEGIN:VEVENT
UID:580724861b631b37ff4586c8@squarespace.com
DTSTAMP:20161019T075027Z
DTSTART:20161107T193000Z
DTEND:20161108T033000Z
SUMMARY:West Coast DHB B4 School Checks - Hokitika
GEO:-42.717369;170.966543
LOCATION:West Coast DHB\, Hokitika
END:VEVENT
END:VCALENDAR
