BEGIN:VCALENDAR
VERSION:2.0
PRODID:-//Squarespace Inc/Squarespace 6//v6//EN
BEGIN:VEVENT
UID:58072b42b3db2b7c7418f6d8@squarespace.com
DTSTAMP:20161019T081951Z
DTSTART:20161220T220000Z
DTEND:20161220T230000Z
SUMMARY:West Coast Stroke Support Group - Greymouth
GEO:-42.508475;171.229853
LOCATION:West Coast Stroke Foundation\, Westland Recreation Centre\, 7805\, 
 New Zealand
END:VEVENT
END:VCALENDAR
