BEGIN:VCALENDAR
VERSION:2.0
PRODID:-//Squarespace Inc/Squarespace 6//v6//EN
BEGIN:VEVENT
UID:58072793c534a5bab1dd7779@squarespace.com
DTSTAMP:20161019T080045Z
DTSTART:20161206T193000Z
DTEND:20161207T033000Z
SUMMARY:West Coast DHB B4 School Checks - Westport
END:VEVENT
END:VCALENDAR
