BEGIN:VCALENDAR
VERSION:2.0
PRODID:-//Squarespace Inc/Squarespace 6//v6//EN
BEGIN:VEVENT
UID:5878869e197aead8e7d5607e@squarespace.com
DTSTAMP:20170113T083637Z
DTSTART:20170214T203000Z
DTEND:20170215T023000Z
SUMMARY:Leadership Forum: Aging And Disability – New Challenges For Policy 
 And Practice
END:VEVENT
END:VCALENDAR
