BEGIN:VCALENDAR
VERSION:2.0
PRODID:-//Squarespace Inc/Squarespace 6//v6//EN
BEGIN:VEVENT
UID:58a0f814d1758ebeb9f908ea@squarespace.com
DTSTAMP:20170213T000650Z
DTSTART:20170321T220000Z
DTEND:20170322T000000Z
SUMMARY:Cancer Support Group - Wednesday club
END:VEVENT
END:VCALENDAR
