BEGIN:VCALENDAR
VERSION:2.0
PRODID:-//Squarespace Inc/Squarespace 6//v6//EN
BEGIN:VEVENT
UID:58a0f637f7e0abd0693d42df@squarespace.com
DTSTAMP:20170213T000040Z
DTSTART:20170220T203000Z
DTEND:20170220T213000Z
SUMMARY:Trikes Demo Day
END:VEVENT
END:VCALENDAR
