BEGIN:VCALENDAR
VERSION:2.0
PRODID:-//Squarespace Inc/Squarespace 6//v6//EN
BEGIN:VEVENT
UID:5892f0d61b631b4dc0d2c1e2@squarespace.com
DTSTAMP:20170202T084440Z
DTSTART:20170225T230000Z
DTEND:20170226T020000Z
SUMMARY:Onesie Fun/Run Walk Fundraiser
END:VEVENT
END:VCALENDAR
