BEGIN:VCALENDAR
VERSION:2.0
PRODID:-//Squarespace Inc/Squarespace 6//v6//EN
BEGIN:VEVENT
UID:58845d189de4bb68c3ffb9c9@squarespace.com
DTSTAMP:20170122T072259Z
DTSTART:20170207T170000Z
DTEND:20170207T180000Z
SUMMARY:Go by bike day
END:VEVENT
END:VCALENDAR
