BEGIN:VCALENDAR
VERSION:2.0
PRODID:-//Squarespace Inc/Squarespace 6//v6//EN
BEGIN:VEVENT
UID:58c87e6c37c58161b5d44aed@squarespace.com
DTSTAMP:20170314T234800Z
DTSTART:20170322T201500Z
DTEND:20170322T233000Z
SUMMARY:Arthritis New Zealand workshops - Hokitika 
GEO:-42.450392;171.210762
LOCATION:Hokitika Greypower\, Corner of Revel & Stafford St
END:VEVENT
END:VCALENDAR
