BEGIN:VCALENDAR
VERSION:2.0
PRODID:-//Squarespace Inc/Squarespace 6//v6//EN
BEGIN:VEVENT
UID:58c87caedb29d65a97baa226@squarespace.com
DTSTAMP:20170315T005626Z
DTSTART:20170322T000000Z
DTEND:20170322T033000Z
SUMMARY:Manage your Arthritis - Greymouth Workshops 1pm - 4:30pm
GEO:-42.450392;171.210762
LOCATION:Recreation centre\, Greymouth\,
END:VEVENT
END:VCALENDAR
