BEGIN:VCALENDAR
VERSION:2.0
PRODID:-//Squarespace Inc/Squarespace 6//v6//EN
BEGIN:VEVENT
UID:58cf030dbe6594524c737325@squarespace.com
DTSTAMP:20170319T221724Z
DTSTART:20170322T210000Z
DTEND:20170322T230000Z
SUMMARY:Autism Support Group
END:VEVENT
END:VCALENDAR
