BEGIN:VCALENDAR
VERSION:2.0
PRODID:-//Squarespace Inc/Squarespace 6//v6//EN
BEGIN:VEVENT
UID:58eaff012e69cf2772ef8821@squarespace.com
DTSTAMP:20170410T035047Z
DTSTART:20170419T220000Z
DTEND:20170420T040000Z
SUMMARY:DIY craft day
END:VEVENT
END:VCALENDAR
