BEGIN:VCALENDAR
VERSION:2.0
PRODID:-//Squarespace Inc/Squarespace 6//v6//EN
BEGIN:VEVENT
UID:58cf0382ebbd1a54a349c5d8@squarespace.com
DTSTAMP:20170319T221826Z
DTSTART:20170426T220000Z
DTEND:20170427T000000Z
SUMMARY:Autism Support Group
END:VEVENT
END:VCALENDAR
