BEGIN:VCALENDAR
VERSION:2.0
PRODID:-//Squarespace Inc/Squarespace 6//v6//EN
BEGIN:VEVENT
UID:58ceff67579fb36fc03cf780@squarespace.com
DTSTAMP:20170319T220147Z
DTSTART:20170404T063000Z
DTEND:20170404T083000Z
SUMMARY:Mens wellness information evening
GEO:-42.717369;170.966543
LOCATION:Hokitika\, RSA
END:VEVENT
END:VCALENDAR
