BEGIN:VCALENDAR
VERSION:2.0
PRODID:-//Squarespace Inc/Squarespace 6//v6//EN
BEGIN:VEVENT
UID:58cf009bf5e2314657f8021d@squarespace.com
DTSTAMP:20170319T220802Z
DTSTART:20170523T230000Z
DTEND:20170524T010000Z
SUMMARY:Cancer support group
END:VEVENT
END:VCALENDAR
