BEGIN:VCALENDAR
VERSION:2.0
PRODID:-//Squarespace Inc/Squarespace 6//v6//EN
BEGIN:VEVENT
UID:592f67ed37c581978d62e3d2@squarespace.com
DTSTAMP:20170601T010754Z
DTSTART:20170726T210000Z
DTEND:20170727T040000Z
SUMMARY:IRD Visit to Wesport
END:VEVENT
END:VCALENDAR
