BEGIN:VCALENDAR
VERSION:2.0
PRODID:-//Squarespace Inc/Squarespace 6//v6//EN
BEGIN:VEVENT
UID:58126f45197aea02c3c58c52@squarespace.com
DTSTAMP:20161102T203941Z
DTSTART:20161111T210000Z
DTEND:20161112T010000Z
SUMMARY:"Living well with Diabetes"
GEO:32.423483;-93.637937
LOCATION:PHO Office\, Above Speights ale house
END:VEVENT
END:VCALENDAR
